BEGIN:VCALENDAR
VERSION:2.0
PRODID:-//Project Feed the Hood - ECPv6.15.20//NONSGML v1.0//EN
CALSCALE:GREGORIAN
METHOD:PUBLISH
X-WR-CALNAME:Project Feed the Hood
X-ORIGINAL-URL:https://www.projectfeedthehood.org
X-WR-CALDESC:Events for Project Feed the Hood
REFRESH-INTERVAL;VALUE=DURATION:PT1H
X-Robots-Tag:noindex
X-PUBLISHED-TTL:PT1H
BEGIN:VTIMEZONE
TZID:America/Denver
BEGIN:DAYLIGHT
TZOFFSETFROM:-0700
TZOFFSETTO:-0600
TZNAME:MDT
DTSTART:20240310T090000
END:DAYLIGHT
BEGIN:STANDARD
TZOFFSETFROM:-0600
TZOFFSETTO:-0700
TZNAME:MST
DTSTART:20241103T080000
END:STANDARD
BEGIN:DAYLIGHT
TZOFFSETFROM:-0700
TZOFFSETTO:-0600
TZNAME:MDT
DTSTART:20250309T090000
END:DAYLIGHT
BEGIN:STANDARD
TZOFFSETFROM:-0600
TZOFFSETTO:-0700
TZNAME:MST
DTSTART:20251102T080000
END:STANDARD
BEGIN:DAYLIGHT
TZOFFSETFROM:-0700
TZOFFSETTO:-0600
TZNAME:MDT
DTSTART:20260308T090000
END:DAYLIGHT
BEGIN:STANDARD
TZOFFSETFROM:-0600
TZOFFSETTO:-0700
TZNAME:MST
DTSTART:20261101T080000
END:STANDARD
END:VTIMEZONE
BEGIN:VEVENT
DTSTART;TZID=America/Denver:20250825T180000
DTEND;TZID=America/Denver:20250825T193000
DTSTAMP:20260420T155226
CREATED:20250806T055031Z
LAST-MODIFIED:20250806T055032Z
UID:1947-1756144800-1756150200@www.projectfeedthehood.org
SUMMARY:Weeding Warriors
DESCRIPTION:Join in community and get your hands in the dirt\, every Monday from 6:00 pm to 7:30 pm. Jumpstart the week at PFTH with collective caretaking of the farm space. \n\n\n\n\nWedding\, snacking\, and tune jamming\n\n\n\nMeet and connect with fellow food justice warriors\n\n\n\nLearn and support visions of a healthier greener Albuquerque
URL:https://www.projectfeedthehood.org/event/weeding-warriors-7/
LOCATION:Project Feed the Hood Farm\, 3400 Ross Ave. SE\, Albuquerque\, NM\, 87106\, United States
ATTACH;FMTTYPE=image/jpeg:https://www.projectfeedthehood.org/wp-content/uploads/2025/07/JOIN-THE-WEEDING.jpg
END:VEVENT
BEGIN:VEVENT
DTSTART;TZID=America/Denver:20250818T180000
DTEND;TZID=America/Denver:20250818T193000
DTSTAMP:20260420T155226
CREATED:20250806T054932Z
LAST-MODIFIED:20250806T054933Z
UID:1945-1755540000-1755545400@www.projectfeedthehood.org
SUMMARY:Weeding Warriors
DESCRIPTION:Join in community and get your hands in the dirt\, every Monday from 6:00 pm to 7:30 pm. Jumpstart the week at PFTH with collective caretaking of the farm space. \n\n\n\n\nWedding\, snacking\, and tune jamming\n\n\n\nMeet and connect with fellow food justice warriors\n\n\n\nLearn and support visions of a healthier greener Albuquerque
URL:https://www.projectfeedthehood.org/event/weeding-warriors-6/
LOCATION:Project Feed the Hood Farm\, 3400 Ross Ave. SE\, Albuquerque\, NM\, 87106\, United States
ATTACH;FMTTYPE=image/jpeg:https://www.projectfeedthehood.org/wp-content/uploads/2025/07/JOIN-THE-WEEDING.jpg
END:VEVENT
BEGIN:VEVENT
DTSTART;TZID=America/Denver:20250811T180000
DTEND;TZID=America/Denver:20250811T193000
DTSTAMP:20260420T155226
CREATED:20250720T203844Z
LAST-MODIFIED:20250720T204129Z
UID:1806-1754935200-1754940600@www.projectfeedthehood.org
SUMMARY:Weeding Warriors
DESCRIPTION:Join in community and get your hands in the dirt\, every Monday from 6:00 pm to 7:30 pm. Jumpstart the week at PFTH with collective caretaking of the farm space. \n\n\n\n\nWedding\, snacking\, and tune jamming\n\n\n\nMeet and connect with fellow food justice warriors\n\n\n\nLearn and support visions of a healthier greener Albuquerque
URL:https://www.projectfeedthehood.org/event/weeding-warriors-5/
LOCATION:Project Feed the Hood Farm\, 3400 Ross Ave. SE\, Albuquerque\, NM\, 87106\, United States
ATTACH;FMTTYPE=image/jpeg:https://www.projectfeedthehood.org/wp-content/uploads/2025/07/JOIN-THE-WEEDING.jpg
END:VEVENT
BEGIN:VEVENT
DTSTART;TZID=America/Denver:20250804T180000
DTEND;TZID=America/Denver:20250804T193000
DTSTAMP:20260420T155226
CREATED:20250720T203728Z
LAST-MODIFIED:20250720T204319Z
UID:1804-1754330400-1754335800@www.projectfeedthehood.org
SUMMARY:Weeding Warriors
DESCRIPTION:Join in community and get your hands in the dirt\, every Monday from 6:00 pm to 7:30 pm. Jumpstart the week at PFTH with collective caretaking of the farm space. \n\n\n\n\nWedding\, snacking\, and tune jamming\n\n\n\nMeet and connect with fellow food justice warriors\n\n\n\nLearn and support visions of a healthier greener Albuquerque
URL:https://www.projectfeedthehood.org/event/weeding-warriors-4/
LOCATION:Project Feed the Hood Farm\, 3400 Ross Ave. SE\, Albuquerque\, NM\, 87106\, United States
ATTACH;FMTTYPE=image/jpeg:https://www.projectfeedthehood.org/wp-content/uploads/2025/07/JOIN-THE-WEEDING.jpg
END:VEVENT
BEGIN:VEVENT
DTSTART;TZID=America/Denver:20250728T180000
DTEND;TZID=America/Denver:20250728T193000
DTSTAMP:20260420T155226
CREATED:20250709T203435Z
LAST-MODIFIED:20250720T204247Z
UID:1740-1753725600-1753731000@www.projectfeedthehood.org
SUMMARY:Weeding Warriors
DESCRIPTION:Join in community and get your hands in the dirt\, every Monday from 6:00 pm to 7:30 pm. Jumpstart the week at PFTH with collective caretaking of the farm space. \n\n\n\n\nWedding\, snacking\, and tune jamming\n\n\n\nMeet and connect with fellow food justice warriors\n\n\n\nLearn and support visions of a healthier greener Albuquerque
URL:https://www.projectfeedthehood.org/event/weeding-warriors-3/
LOCATION:Project Feed the Hood Farm\, 3400 Ross Ave. SE\, Albuquerque\, NM\, 87106\, United States
ATTACH;FMTTYPE=image/jpeg:https://www.projectfeedthehood.org/wp-content/uploads/2025/07/JOIN-THE-WEEDING.jpg
END:VEVENT
BEGIN:VEVENT
DTSTART;TZID=America/Denver:20250721T180000
DTEND;TZID=America/Denver:20250721T193000
DTSTAMP:20260420T155226
CREATED:20250708T175709Z
LAST-MODIFIED:20250720T204212Z
UID:1673-1753120800-1753126200@www.projectfeedthehood.org
SUMMARY:Weeding Warriors
DESCRIPTION:Join in community and get your hands in the dirt\, every Monday from 6:00 pm to 7:30 pm. Jumpstart the week at PFTH with collective caretaking of the farm space. \n\n\n\n\nWedding\, snacking\, and tune jamming\n\n\n\nMeet and connect with fellow food justice warriors\n\n\n\nLearn and support visions of a healthier greener Albuquerque
URL:https://www.projectfeedthehood.org/event/weeding-warriors-2/
LOCATION:Project Feed the Hood Farm\, 3400 Ross Ave. SE\, Albuquerque\, NM\, 87106\, United States
ATTACH;FMTTYPE=image/jpeg:https://www.projectfeedthehood.org/wp-content/uploads/2025/07/JOIN-THE-WEEDING.jpg
END:VEVENT
BEGIN:VEVENT
DTSTART;TZID=America/Denver:20250714T180000
DTEND;TZID=America/Denver:20250714T193000
DTSTAMP:20260420T155226
CREATED:20250708T174728Z
LAST-MODIFIED:20250709T192704Z
UID:1667-1752516000-1752521400@www.projectfeedthehood.org
SUMMARY:Weeding Warriors
DESCRIPTION:Join in community and get your hands in the dirt\, every Monday from 6:00 pm to 7:30 pm. Jumpstart the week at PFTH with collective caretaking of the farm space. \n\n\n\n\nWedding\, snacking\, and tune jamming\n\n\n\nMeet and connect with fellow food justice warriors\n\n\n\nLearn and support visions of a healthier greener Albuquerque
URL:https://www.projectfeedthehood.org/event/weeding-warriors/
LOCATION:Project Feed the Hood Farm\, 3400 Ross Ave. SE\, Albuquerque\, NM\, 87106\, United States
ATTACH;FMTTYPE=image/jpeg:https://www.projectfeedthehood.org/wp-content/uploads/2025/07/JOIN-THE-WEEDING.jpg
END:VEVENT
BEGIN:VEVENT
DTSTART;TZID=America/Denver:20250704T140000
DTEND;TZID=America/Denver:20250704T180000
DTSTAMP:20260420T155226
CREATED:20250708T171620Z
LAST-MODIFIED:20250708T171622Z
UID:1661-1751637600-1751652000@www.projectfeedthehood.org
SUMMARY:4th of July Celebration
DESCRIPTION:This 4th of July- Let’s celebrate OUR way! We know this day means different things to different people – and thats okay. At the I.D.Food Hub\, were making space for everyone to come together\, share\, and celebrate what really matters: each other.
URL:https://www.projectfeedthehood.org/event/4th-of-july-celebration/
LOCATION:Whitter Elementary School\, 1110 Quincy St. SE\, Albuquerque\, New Mexico\, 87108
ATTACH;FMTTYPE=image/jpeg:https://www.projectfeedthehood.org/wp-content/uploads/2025/07/4TH-OF-JULY-2025.jpg
END:VEVENT
BEGIN:VEVENT
DTSTART;TZID=America/Denver:20250614T090000
DTEND;TZID=America/Denver:20250614T150000
DTSTAMP:20260420T155226
CREATED:20250515T185836Z
LAST-MODIFIED:20250515T190226Z
UID:1557-1749891600-1749913200@www.projectfeedthehood.org
SUMMARY:June Gardening Event
DESCRIPTION:Testing events page
URL:https://www.projectfeedthehood.org/event/june-gardening-event/
LOCATION:Project Feed the Hood Farm\, 3400 Ross Ave. SE\, Albuquerque\, NM\, 87106\, United States
ATTACH;FMTTYPE=image/jpeg:https://www.projectfeedthehood.org/wp-content/uploads/2025/04/pfthImage.jpeg
END:VEVENT
BEGIN:VEVENT
DTSTART;TZID=America/Denver:20250531T080000
DTEND;TZID=America/Denver:20250531T170000
DTSTAMP:20260420T155226
CREATED:20250424T204316Z
LAST-MODIFIED:20250522T164853Z
UID:1377-1748678400-1748710800@www.projectfeedthehood.org
SUMMARY:May Gardening Event
DESCRIPTION:Testing events page
URL:https://www.projectfeedthehood.org/event/may-gardening-event/
LOCATION:NM
ATTACH;FMTTYPE=image/jpeg:https://www.projectfeedthehood.org/wp-content/uploads/2025/04/9.jpg
END:VEVENT
BEGIN:VEVENT
DTSTART;TZID=America/Denver:20250524T100000
DTEND;TZID=America/Denver:20250524T140000
DTSTAMP:20260420T155226
CREATED:20250514T025152Z
LAST-MODIFIED:20250514T035635Z
UID:1503-1748080800-1748095200@www.projectfeedthehood.org
SUMMARY:2025 Farm Opening
DESCRIPTION:We will be offering: \n\n\n\n\nLive music by Sin Limite 12pm – 1pm\n\n\n\nPFTH swag raffle 12pm and 1pm\n\n\n\nFood trucks and local vendors\n\n\n\nFree gardening resources and plans starts\n\n\n\nFamily friendly activities\n\n\n\n\nJoin us to learn about the work we’ve been doing across New Mexico and to meet all the amazing partners we work with.
URL:https://www.projectfeedthehood.org/event/2025-farm-opening/
LOCATION:Project Feed the Hood Farm\, 3400 Ross Ave. SE\, Albuquerque\, NM\, 87106\, United States
ATTACH;FMTTYPE=image/jpeg:https://www.projectfeedthehood.org/wp-content/uploads/2025/04/IMG_5474.jpg
END:VEVENT
END:VCALENDAR